BEGIN:VCALENDAR
VERSION:2.0
PRODID:-//Greater Grand Forks Young Professionals - ECPv6.15.20//NONSGML v1.0//EN
CALSCALE:GREGORIAN
METHOD:PUBLISH
X-ORIGINAL-URL:https://ggfyp.com
X-WR-CALDESC:Events for Greater Grand Forks Young Professionals
REFRESH-INTERVAL;VALUE=DURATION:PT1H
X-Robots-Tag:noindex
X-PUBLISHED-TTL:PT1H
BEGIN:VTIMEZONE
TZID:America/Chicago
BEGIN:DAYLIGHT
TZOFFSETFROM:-0600
TZOFFSETTO:-0500
TZNAME:CDT
DTSTART:20240310T080000
END:DAYLIGHT
BEGIN:STANDARD
TZOFFSETFROM:-0500
TZOFFSETTO:-0600
TZNAME:CST
DTSTART:20241103T070000
END:STANDARD
BEGIN:DAYLIGHT
TZOFFSETFROM:-0600
TZOFFSETTO:-0500
TZNAME:CDT
DTSTART:20250309T080000
END:DAYLIGHT
BEGIN:STANDARD
TZOFFSETFROM:-0500
TZOFFSETTO:-0600
TZNAME:CST
DTSTART:20251102T070000
END:STANDARD
BEGIN:DAYLIGHT
TZOFFSETFROM:-0600
TZOFFSETTO:-0500
TZNAME:CDT
DTSTART:20260308T080000
END:DAYLIGHT
BEGIN:STANDARD
TZOFFSETFROM:-0500
TZOFFSETTO:-0600
TZNAME:CST
DTSTART:20261101T070000
END:STANDARD
END:VTIMEZONE
BEGIN:VEVENT
DTSTART;TZID=America/Chicago:20250825T163000
DTEND;TZID=America/Chicago:20250825T200000
DTSTAMP:20260423T062708
CREATED:20250730T211035Z
LAST-MODIFIED:20250820T234314Z
UID:4692-1756139400-1756152000@ggfyp.com
SUMMARY:Taste of Belgium Volunteering
DESCRIPTION:Orange Bag Distribution				\n				\n				\n						\n					\n			\n						\n				\n					\n	\n				\n				\n					\n		\n				\n			\n						\n				\n					\n		\n			April 9\n\n		\n	\n	  -  \n\n	April 15\n\n	\n				\n				\n				\n				\n									Orange Bags will be distributed to southend neighborhoods in Grand Forks. The bags will have a note encouraging the residents to donate any items on the non-profit needs list. All bags will be collected on May 2nd and sorted at Optimist Park. 								\n				\n				\n				\n									\n					\n						\n									REGISTER TODAY\n					\n					\n				\n								\n				\n					\n		\n					\n		\n				\n						\n					\n			\n							\n		\n				\n			\n						\n				\n					\n	\n		\n\n	\n	Add to calendar	\n		\n	\n\n		\n			\n									\n	Google Calendar\n\n									\n	iCalendar\n\n									\n	Outlook 365\n\n									\n	Outlook Live\n\n							\n		\n\n		\n	\n\n				\n				\n				\n				\n					\n	\n\n	Categories:	\n		Community Involvement\, GGFYP Event\, Orange Bag\, Signature Events	\n\n				\n				\n					\n		\n					\n		\n					\n		\n					\n		\n				\n						\n					\n			\n						\n				\n					\n	\n		\n\n				Orange Bag Speed Volunteering	\n\n\n		\n	\n		Family Power Play | Meet Me In My Community			\n\n	\n\n				\n				\n				\n				\n							\n			        Apr\n			        23\n			        \n    Business Tour: Grand Forks Subaru\n                \n                12:00 pm - 1:00 pm\n				\n			        Apr\n			        28\n			        \n    Learn to Cook with Chef shilo\n                \n                6:00 pm - 7:30 pm\n				\n			        May\n			        02\n			        \n    Orange Bag Event\n                \n                10:00 am - 2:00 pm
URL:https://ggfyp.com/event/taste-of-belgium-volunteering/
LOCATION:Town Square\, 1 S 3rd St\, Grand Forks\, ND\, 58201
CATEGORIES:Community Involvement
ATTACH;FMTTYPE=image/jpeg:https://ggfyp.com/wp-content/uploads/Community-Involvement-AUG.jpg
ORGANIZER;CN="Community Involvement Chair":MAILTO:community@ggfyp.com
END:VEVENT
END:VCALENDAR