BEGIN:VCALENDAR
VERSION:2.0
PRODID:-//Greater Grand Forks Young Professionals - ECPv6.15.20//NONSGML v1.0//EN
CALSCALE:GREGORIAN
METHOD:PUBLISH
X-WR-CALNAME:Greater Grand Forks Young Professionals
X-ORIGINAL-URL:https://ggfyp.com
X-WR-CALDESC:Events for Greater Grand Forks Young Professionals
REFRESH-INTERVAL;VALUE=DURATION:PT1H
X-Robots-Tag:noindex
X-PUBLISHED-TTL:PT1H
BEGIN:VTIMEZONE
TZID:America/Chicago
BEGIN:DAYLIGHT
TZOFFSETFROM:-0600
TZOFFSETTO:-0500
TZNAME:CDT
DTSTART:20250309T080000
END:DAYLIGHT
BEGIN:STANDARD
TZOFFSETFROM:-0500
TZOFFSETTO:-0600
TZNAME:CST
DTSTART:20251102T070000
END:STANDARD
BEGIN:DAYLIGHT
TZOFFSETFROM:-0600
TZOFFSETTO:-0500
TZNAME:CDT
DTSTART:20260308T080000
END:DAYLIGHT
BEGIN:STANDARD
TZOFFSETFROM:-0500
TZOFFSETTO:-0600
TZNAME:CST
DTSTART:20261101T070000
END:STANDARD
BEGIN:DAYLIGHT
TZOFFSETFROM:-0600
TZOFFSETTO:-0500
TZNAME:CDT
DTSTART:20270314T080000
END:DAYLIGHT
BEGIN:STANDARD
TZOFFSETFROM:-0500
TZOFFSETTO:-0600
TZNAME:CST
DTSTART:20271107T070000
END:STANDARD
END:VTIMEZONE
BEGIN:VEVENT
DTSTART;TZID=America/Chicago:20260423T120000
DTEND;TZID=America/Chicago:20260423T130000
DTSTAMP:20260423T030008
CREATED:20260331T214626Z
LAST-MODIFIED:20260331T220207Z
UID:6108-1776945600-1776949200@ggfyp.com
SUMMARY:Business Tour: Grand Forks Subaru
DESCRIPTION:Wednesday Bites in Town Square				\n				\n				\n						\n					\n			\n						\n				\n					\n	\n				\n				\n					\n		\n				\n			\n						\n				\n					\n		\n			July 8\n\n	\n\n	  @  \n\n\n11:00 am\n\n		\n\n\n\n	\n	  -  \n\n2:00 pm\n\n\n\n	\n				\n				\n				\n				\n									To help bring more consistent programming downtown\, the DDA will be bringing local food trucks to Town Square each Wednesday during the summer and into fall! There are thousands of residents and employees downtown and this is just another way to feed them! Trucks will be in Town Square from 11am-2pm or until sold out! For a full schedule\, visit the DDA website! It will be updated as the season progresses! 								\n				\n				\n				\n									\n					\n						\n									VIEW FULL SCHEDULE\n					\n					\n				\n								\n				\n					\n		\n					\n		\n				\n						\n					\n			\n						\n				\n					\n				\n				\n	\n	Town Square\n	\n	\n\n1 S 3rd St\n	\n		\n		Grand Forks\,\n\n	ND\n\n	58201\n\n\n\n\n\n\n		\n	\n				\n				\n					\n		\n				\n			\n						\n				\n					\n	\n		\n\n	\n	Add to calendar	\n		\n	\n\n		\n			\n									\n	Google Calendar\n\n									\n	iCalendar\n\n									\n	Outlook 365\n\n									\n	Outlook Live\n\n							\n		\n\n		\n	\n\n				\n				\n				\n				\n					\n	\n\n	Categories:	\n		Community Event	\n\n				\n				\n					\n		\n					\n		\n					\n		\n					\n		\n				\n						\n					\n			\n						\n				\n					\n	\n		\n\n				Wednesday Bites in Town Square	\n\n\n		\n	\n		Family Confections & Connections | Meet Me In My Community			\n\n	\n\n				\n				\n				\n				\n							\n			        Apr\n			        23\n			        \n    Business Tour: Grand Forks Subaru\n                \n                12:00 pm - 1:00 pm\n				\n			        Apr\n			        28\n			        \n    Learn to Cook with Chef shilo\n                \n                6:00 pm - 7:30 pm\n				\n			        May\n			        02\n			        \n    Orange Bag Event\n                \n                10:00 am - 2:00 pm
URL:https://ggfyp.com/event/business-tour-grand-forks-subaru/
LOCATION:Grand Forks Subaru\, 4004 S Columbia Rd\,\, Grand Forks\, ND\, 58201\, United States
CATEGORIES:GGFYP Event,Professional Development Event
ATTACH;FMTTYPE=image/jpeg:https://ggfyp.com/wp-content/uploads/PD-4.jpg
ORGANIZER;CN="Professional Development Chair":MAILTO:professional@ggfyp.com
END:VEVENT
END:VCALENDAR