BEGIN:VCALENDAR
VERSION:2.0
PRODID:-//Greater Grand Forks Young Professionals - ECPv6.15.15//NONSGML v1.0//EN
CALSCALE:GREGORIAN
METHOD:PUBLISH
X-WR-CALNAME:Greater Grand Forks Young Professionals
X-ORIGINAL-URL:https://ggfyp.com
X-WR-CALDESC:Events for Greater Grand Forks Young Professionals
REFRESH-INTERVAL;VALUE=DURATION:PT1H
X-Robots-Tag:noindex
X-PUBLISHED-TTL:PT1H
BEGIN:VTIMEZONE
TZID:America/Chicago
BEGIN:DAYLIGHT
TZOFFSETFROM:-0600
TZOFFSETTO:-0500
TZNAME:CDT
DTSTART:20250309T080000
END:DAYLIGHT
BEGIN:STANDARD
TZOFFSETFROM:-0500
TZOFFSETTO:-0600
TZNAME:CST
DTSTART:20251102T070000
END:STANDARD
BEGIN:DAYLIGHT
TZOFFSETFROM:-0600
TZOFFSETTO:-0500
TZNAME:CDT
DTSTART:20260308T080000
END:DAYLIGHT
BEGIN:STANDARD
TZOFFSETFROM:-0500
TZOFFSETTO:-0600
TZNAME:CST
DTSTART:20261101T070000
END:STANDARD
BEGIN:DAYLIGHT
TZOFFSETFROM:-0600
TZOFFSETTO:-0500
TZNAME:CDT
DTSTART:20270314T080000
END:DAYLIGHT
BEGIN:STANDARD
TZOFFSETFROM:-0500
TZOFFSETTO:-0600
TZNAME:CST
DTSTART:20271107T070000
END:STANDARD
END:VTIMEZONE
BEGIN:VEVENT
DTSTART;TZID=America/Chicago:20260105T173000
DTEND;TZID=America/Chicago:20260105T183000
DTSTAMP:20260421T051135
CREATED:20251015T220614Z
LAST-MODIFIED:20251229T182256Z
UID:5091-1767634200-1767637800@ggfyp.com
SUMMARY:Social Events Committee Meeting
DESCRIPTION:Social Events Committee Meeting				\n				\n				\n						\n					\n			\n						\n				\n					\n	\n				\n				\n					\n		\n				\n			\n						\n				\n					\n		\n			January 5\n\n	\n\n	  @  \n\n\n5:30 pm\n\n		\n\n\n\n	\n	  -  \n\n6:30 pm\n\n\n\n	\n				\n				\n				\n				\n									Join GGFYP for the monthly Social Events Committee Meeting on the first Monday of the month at 5:30 PM!Help the Social Events Committee brainstorm and plan monthly GGFYP social events to help Young Professionals make meaningful connections through new experiences. With recent events such as curling\, bingo\, bowling\, and the social events committee introduces YPs to the many adventures and opportunities our community has to offer. This committee also helps plan signature GGFYP events\, including ArtSee and the Annual Picnic. All are welcome to attend and see what being a GGFYP is all about. 								\n				\n				\n				\n									\n					\n						\n									LET US KNOW YOU'RE COMING!\n					\n					\n				\n								\n				\n					\n		\n					\n		\n				\n						\n					\n			\n						\n				\n					\n				\n				\n	\n	Sweetwater Coffee & Tea\n	\n	\n\n322 Demers Avenue\, Suite 100\n	\n		\n		Grand Forks\,\n\n	ND\n\n\n	United States\n\n\n\n\n\n		\n	\n				\n				\n					\n		\n				\n			\n						\n				\n					\n	\n		\n\n	\n	Add to calendar	\n		\n	\n\n		\n			\n									\n	Google Calendar\n\n									\n	iCalendar\n\n									\n	Outlook 365\n\n									\n	Outlook Live\n\n							\n		\n\n		\n	\n\n				\n				\n				\n				\n					\n	\n\n	Categories:	\n		Committee Meeting	\n\n				\n				\n					\n		\n					\n		\n					\n		\n					\n		\n				\n						\n					\n			\n						\n				\n					\n	\n		\n\n				2026 Spring Community Mentorship Applications Open	\n\n\n		\n	\n		Professional Development Committee Meeting			\n\n	\n\n				\n				\n				\n				\n							\n			        Apr\n			        23\n			        \n    Business Tour: Grand Forks Subaru\n                \n                12:00 pm - 1:00 pm\n				\n			        Apr\n			        28\n			        \n    Learn to Cook with Chef shilo\n                \n                6:00 pm - 7:30 pm\n				\n			        May\n			        02\n			        \n    Orange Bag Event\n                \n                10:00 am - 2:00 pm\n				\n						\n				\n					\n		\n					\n		\n				\n		Social Events Committee Meeting
URL:https://ggfyp.com/event/social-events-committee-meeting-6/
LOCATION:Sweetwater Coffee & Tea\, 322 Demers Avenue\, Suite 100\, Grand Forks\, ND\, United States
CATEGORIES:Committee Meeting
ATTACH;FMTTYPE=image/jpeg:https://ggfyp.com/wp-content/uploads/2024-Calendar-Thumbnail-Social-Events.jpg
ORGANIZER;CN="Social Events Chair":MAILTO:social@ggfyp.com
END:VEVENT
END:VCALENDAR