BEGIN:VCALENDAR
VERSION:2.0
PRODID:-//Greater Grand Forks Young Professionals - ECPv6.15.15//NONSGML v1.0//EN
CALSCALE:GREGORIAN
METHOD:PUBLISH
X-WR-CALNAME:Greater Grand Forks Young Professionals
X-ORIGINAL-URL:https://ggfyp.com
X-WR-CALDESC:Events for Greater Grand Forks Young Professionals
REFRESH-INTERVAL;VALUE=DURATION:PT1H
X-Robots-Tag:noindex
X-PUBLISHED-TTL:PT1H
BEGIN:VTIMEZONE
TZID:America/Chicago
BEGIN:DAYLIGHT
TZOFFSETFROM:-0600
TZOFFSETTO:-0500
TZNAME:CDT
DTSTART:20240310T080000
END:DAYLIGHT
BEGIN:STANDARD
TZOFFSETFROM:-0500
TZOFFSETTO:-0600
TZNAME:CST
DTSTART:20241103T070000
END:STANDARD
BEGIN:DAYLIGHT
TZOFFSETFROM:-0600
TZOFFSETTO:-0500
TZNAME:CDT
DTSTART:20250309T080000
END:DAYLIGHT
BEGIN:STANDARD
TZOFFSETFROM:-0500
TZOFFSETTO:-0600
TZNAME:CST
DTSTART:20251102T070000
END:STANDARD
BEGIN:DAYLIGHT
TZOFFSETFROM:-0600
TZOFFSETTO:-0500
TZNAME:CDT
DTSTART:20260308T080000
END:DAYLIGHT
BEGIN:STANDARD
TZOFFSETFROM:-0500
TZOFFSETTO:-0600
TZNAME:CST
DTSTART:20261101T070000
END:STANDARD
END:VTIMEZONE
BEGIN:VEVENT
DTSTART;TZID=America/Chicago:20251213T110000
DTEND;TZID=America/Chicago:20251213T130000
DTSTAMP:20260421T084956
CREATED:20251124T225012Z
LAST-MODIFIED:20251124T225748Z
UID:5341-1765623600-1765630800@ggfyp.com
SUMMARY:Lunch With Frosty Volunteering
DESCRIPTION:Lunch With Frosty Volunteering				\n				\n				\n						\n					\n			\n						\n				\n					\n	\n				\n				\n					\n		\n				\n			\n						\n				\n					\n		\n			December 13\n\n	\n\n	  @  \n\n\n11:00 am\n\n		\n\n\n\n	\n	  -  \n\n1:00 pm\n\n\n\n	\n				\n				\n				\n				\n									GGFYP supports the 2nd annual Lunch with Frosty event at Jersey Mike’s! GGFYP will be helping staff hand out free toys and lunches to all kids who come in. There will be a photo op for the kids\, and we’re looking for anyone willing to dress up as Frosty the Snowman!								\n				\n				\n				\n									\n					\n						\n									SIGN UP FOR VOLUNTEERING SLOT\n					\n					\n				\n								\n				\n					\n		\n					\n		\n				\n						\n					\n			\n						\n				\n					\n				\n				\n	\n	Jersey Mikes\n	\n	\n\n1970 S Columbia Rd Suite 106\n	\n		\n		Grand Forks\,\n\n	ND\n\n	58201\n\n	United States\n\n\n\n\n\n		\n	\n				\n				\n					\n		\n				\n			\n						\n				\n					\n	\n		\n\n	\n	Add to calendar	\n		\n	\n\n		\n			\n									\n	Google Calendar\n\n									\n	iCalendar\n\n									\n	Outlook 365\n\n									\n	Outlook Live\n\n							\n		\n\n		\n	\n\n				\n				\n				\n				\n					\n	\n\n	Categories:	\n		Community Involvement\, GGFYP Event	\n\n				\n				\n					\n		\n					\n		\n					\n		\n					\n		\n				\n						\n					\n			\n						\n				\n					\n	\n		\n\n				Toys for Frosty Volunteering	\n\n\n		\n	\n		Lunch & Learn: Plan Today\, Protect Tomorrow!			\n\n	\n\n				\n				\n				\n				\n							\n			        Apr\n			        23\n			        \n    Business Tour: Grand Forks Subaru\n                \n                12:00 pm - 1:00 pm\n				\n			        Apr\n			        28\n			        \n    Learn to Cook with Chef shilo\n                \n                6:00 pm - 7:30 pm\n				\n			        May\n			        02\n			        \n    Orange Bag Event\n                \n                10:00 am - 2:00 pm\n				\n						\n				\n					\n		\n					\n		\n				\n		Lunch With Frosty Volunteering
URL:https://ggfyp.com/event/lunch-with-frosty-volunteering/
LOCATION:Jersey Mikes\, 1970 S Columbia Rd Suite 106\, Grand Forks\, ND\, 58201\, United States
CATEGORIES:Community Involvement,GGFYP Event
ATTACH;FMTTYPE=image/jpeg:https://ggfyp.com/wp-content/uploads/CL.jpg
ORGANIZER;CN="Community Involvement Chair":MAILTO:community@ggfyp.com
END:VEVENT
END:VCALENDAR